View In:
ArcGIS JavaScript
EEA Discomap Portal
ArcGIS Earth
Service Description: FSC_Krakow_05122023_WM_tif_Test_DELETE
Name: FSC_Krakow_05122023_WM_tif_Test_DELETE
Description:
Single Fused Map Cache: false
Extent:
XMin: 2202967.2788576386
YMin: 6440402.745211065
XMax: 2250727.2788576386
YMax: 6468602.745211065
Spatial Reference: 102100
(3857)
Initial Extent:
XMin: 2202967.2788576386
YMin: 6440402.745211065
XMax: 2250727.2788576386
YMax: 6468602.745211065
Spatial Reference: 102100
(3857)
Full Extent:
XMin: 2202967.2788576386
YMin: 6440402.745211065
XMax: 2250727.2788576386
YMax: 6468602.745211065
Spatial Reference: 102100
(3857)
Pixel Size X: 20.0
Pixel Size Y: 20.0
Band Count: 3
Pixel Type: U8
RasterFunction Infos: {"rasterFunctionInfos": [{
"help": "",
"name": "None",
"description": ""
}]}
Mensuration Capabilities: Basic
Inspection Capabilities:
Has Histograms: false
Has Colormap: false
Has Multi Dimensions : false
Rendering Rule:
Min Scale: 0
Max Scale: 0
Copyright Text:
Service Data Type: esriImageServiceDataTypeRGB
Min Values: N/A
Max Values: N/A
Mean Values: N/A
Standard Deviation Values: N/A
Object ID Field:
Fields:
None
Default Mosaic Method: Center
Allowed Mosaic Methods:
SortField:
SortValue: N/A
Mosaic Operator: First
Default Compression Quality: 75
Default Resampling Method: Bilinear
Max Record Count: null
Max Image Height: 4100
Max Image Width: 15000
Max Download Image Count: null
Max Mosaic Image Count: null
Allow Raster Function: true
Allow Copy: true
Allow Analysis: true
Allow Compute TiePoints: false
Supports Statistics: false
Supports Advanced Queries: false
Use StandardizedQueries: false
Raster Type Infos:
Name: Raster Dataset
Description: Supports all ArcGIS Raster Datasets
Help:
Has Raster Attribute Table: false
Edit Fields Info: N/A
Ownership Based AccessControl For Rasters: N/A
Child Resources:
Info
Statistics
Key Properties
Legend
Raster Function Infos
Supported Operations:
Export Image
Identify
Measure
Compute Histograms
Compute Statistics Histograms
Get Samples
Compute Class Statistics
Query Boundary
Compute Pixel Location
Compute Angles
Validate
Project