{
 "extent": {
  "ymin": 6440402.7452110648,
  "xmin": 2202967.2788576386,
  "ymax": 6468602.7452110648,
  "xmax": 2250727.2788576386,
  "spatialReference": {
   "latestWkid": 3857,
   "wkid": 102100
  }
 },
 "blockWidth": 128,
 "mosaicOperator": "First",
 "serviceSourceType": "esriImageServiceSourceTypeDataset",
 "hasMultidimensions": false,
 "maxImageWidth": 15000,
 "meanValues": [],
 "hasColormap": false,
 "compressionType": "LZW",
 "defaultCompressionQuality": 75,
 "maxValues": [],
 "hasHistograms": false,
 "datasetFormat": "TIFF",
 "maxImageHeight": 4100,
 "sortField": "",
 "bandNames": [
  "Band_1"
 ],
 "spatialReference": {
  "latestWkid": 3857,
  "wkid": 102100
 },
 "fullExtent": {
  "ymin": 6440402.7452110648,
  "xmin": 2202967.2788576386,
  "ymax": 6468602.7452110648,
  "xmax": 2250727.2788576386,
  "spatialReference": {
   "latestWkid": 3857,
   "wkid": 102100
  }
 },
 "bandCount": 3,
 "rasterFunctionInfos": [
  {
   "help": "",
   "name": "None",
   "description": ""
  }
 ],
 "supportsStatistics": false,
 "sortableFields": "",
 "minValues": [],
 "allowRasterFunction": true,
 "allowComputeTiePoints": false,
 "serviceDataType": "esriImageServiceDataTypeRGB",
 "supportsAdvancedQueries": false,
 "currentVersion": 12.1,
 "sortValue": null,
 "objectIdField": "",
 "blockHeight": 128,
 "initialExtent": {
  "ymin": 6440402.7452110648,
  "xmin": 2202967.2788576386,
  "ymax": 6468602.7452110648,
  "xmax": 2250727.2788576386,
  "spatialReference": {
   "latestWkid": 3857,
   "wkid": 102100
  }
 },
 "pixelSizeX": 20,
 "pixelSizeY": 20,
 "defaultMosaicMethod": "Center",
 "name": "FSC_Krakow_05122023_WM_tif_Test_DELETE",
 "allowedMosaicMethods": "",
 "fields": [],
 "allowAnalysis": true,
 "hasRasterAttributeTable": false,
 "useStandardizedQueries": false,
 "description": "",
 "pixelType": "U8",
 "meanPixelSize": 20,
 "exportTilesAllowed": false,
 "editFieldsInfo": null,
 "rasterTypeInfos": [
  {
   "help": "",
   "name": "Raster Dataset",
   "description": "Supports all ArcGIS Raster Datasets"
  }
 ],
 "defaultResamplingMethod": "Bilinear",
 "itemAccess": false,
 "minScale": 0,
 "serviceProperties": "Center<\/MosaicMethod>First<\/MosaicOperator>true<\/SortAscending><\/LockImageID><\/TileOrderField>0<\/TileOrderBase>0.000000<\/AvgImageSpacingX>0.000000<\/AvgImageSpacingY>0.0<\/ViewPointX>0.0<\/ViewPointY>0.0<\/ViewPointDefShiftX>0.0<\/ViewPointDefShiftY>None<\/CompressionMethod>75<\/CompressionQuality>0.010000<\/CompressionTolerance>Bilinear<\/SamplingMethod><\/ImageServiceProperties><\/ImageServer>",
 "advancedQueryCapabilities": {
  "supportsStatistics": false,
  "supportsSqlExpression": false,
  "supportsOrderBy": false,
  "useStandardizedQueries": false,
  "supportsPagination": false,
  "supportsDistinct": false
 },
 "capabilities": "Image,Metadata,Mensuration",
 "maxScale": 0,
 "stdvValues": [],
 "allowedFields": "",
 "minPixelSize": 0,
 "noDataValues": [
  256,
  256,
  256
 ],
 "sortAscending": true,
 "inspectionCapabilities": "",
 "maxPixelSize": 0,
 "noDataValue": 256,
 "allowedCompressions": "None,JPEG,LZ77,LERC",
 "uncompressedSize": 10101240,
 "serviceDescription": "FSC_Krakow_05122023_WM_tif_Test_DELETE",
 "allowCopy": true,
 "copyrightText": "",
 "mensurationCapabilities": "Basic",
 "ownershipBasedAccessControlForRasters": null
}
