View In:
ArcGIS JavaScript
EEA Discomap Portal
ArcGIS Earth
Service Description: USDA soil textural classes derived from clay, silt and sand maps.
Note that these data are based on the LUCAS topsoil data for ca 20,000 samples across EU. Resolution: 500m Geographical Coverage: European Union
Input data: LUCAS 2009 Topsoil 20,000 sample point data Model: Multivariate Additive Regression Splines (MARS)
Name: FISE_Samples/SoilTexture_USDA
Description: USDA soil textural classes derived from clay, silt and sand maps.
Note that these data are based on the LUCAS topsoil data for ca 20,000 samples across EU. Resolution: 500m Geographical Coverage: European Union
Input data: LUCAS 2009 Topsoil 20,000 sample point data Model: Multivariate Additive Regression Splines (MARS)
Single Fused Map Cache: false
Extent:
XMin: 2599700.0
YMin: 1399700.0
XMax: 7300200.0
YMax: 5450200.0
Spatial Reference: 0
(0)
LatestVCSWkid(0)
Initial Extent:
XMin: 2599700.0
YMin: 1399700.0
XMax: 7300200.0
YMax: 5450200.0
Spatial Reference: 0
(0)
LatestVCSWkid(0)
Full Extent:
XMin: 2599700.0
YMin: 1399700.0
XMax: 7300200.0
YMax: 5450200.0
Spatial Reference: 0
(0)
LatestVCSWkid(0)
Pixel Size X: 500.0
Pixel Size Y: 500.0
Band Count: 1
Pixel Type: S32
RasterFunction Infos: {"rasterFunctionInfos": [
{
"name": "SoilTexture_AM",
"description": "A raster function template.",
"help": ""
},
{
"name": "None",
"description": "",
"help": ""
}
]}
Mensuration Capabilities: Basic
Inspection Capabilities:
Has Histograms: true
Has Colormap: false
Has Multi Dimensions : false
Rendering Rule:
Min Scale: 0
Max Scale: 0
Resampling: false
Copyright Text: Ballabio C., Panagos P., Montanarella L. Mapping topsoil physical properties at European scale using the LUCAS database (2016) Geoderma, 261 , pp. 110-123.
Service Data Type: esriImageServiceDataTypeGeneric
Min Values: 1
Max Values: 12
Mean Values: 9.1907121995502
Standard Deviation Values: 2.3090521393822
Object ID Field:
Fields:
None
Default Mosaic Method: Center
Allowed Mosaic Methods:
SortField:
SortValue: null
Mosaic Operator: First
Default Compression Quality: 75
Default Resampling Method: Bilinear
Max Record Count: null
Max Image Height: 4100
Max Image Width: 15000
Max Download Image Count: null
Max Mosaic Image Count: null
Allow Raster Function: true
Allow Copy: true
Allow Analysis: true
Allow Compute TiePoints: false
Supports Statistics: false
Supports Advanced Queries: false
Use StandardizedQueries: true
Raster Type Infos:
Name: Raster Dataset
Description: Supports all ArcGIS Raster Datasets
Help:
Has Raster Attribute Table: true
Edit Fields Info: null
Ownership Based AccessControl For Rasters: null
Child Resources:
Info
Raster Attribute Table
Histograms
Statistics
Key Properties
Legend
Raster Function Infos
Supported Operations:
Export Image
Identify
Measure
Compute Histograms
Compute Statistics Histograms
Get Samples
Compute Class Statistics
Query Boundary
Compute Pixel Location
Compute Angles
Validate
Project