{
 "currentVersion": 11.5,
 "serviceDescription": "USDA soil textural classes derived from clay, silt and sand maps.\n\nNote that these data are based on the LUCAS topsoil data for ca 20,000 samples across EU. \n\nResolution: 500m \nGeographical Coverage: European Union\nInput data: LUCAS 2009 Topsoil 20,000 sample point data \nModel: Multivariate Additive Regression Splines (MARS)",
 "name": "FISE_Samples/SoilTexture_USDA",
 "description": "USDA soil textural classes derived from clay, silt and sand maps.\n\nNote that these data are based on the LUCAS topsoil data for ca 20,000 samples across EU. \n\nResolution: 500m \nGeographical Coverage: European Union\nInput data: LUCAS 2009 Topsoil 20,000 sample point data \nModel: Multivariate Additive Regression Splines (MARS)",
 "extent": {
  "xmin": 2599700,
  "ymin": 1399700,
  "xmax": 7300200,
  "ymax": 5450200,
  "spatialReference": {
   "wkt2": "PROJCRS[\"GRS_1980_IUGG_1980_Lambert_Azimuthal_Equal_Area\",BASEGEOGCRS[\"GCS_GRS_1980_IUGG_1980\",DATUM[\"D_unknown\",ELLIPSOID[\"GRS80\",6378137.0,298.257222101,LENGTHUNIT[\"Meter\",1.0]]],PRIMEM[\"Greenwich\",0.0,ANGLEUNIT[\"Degree\",0.0174532925199433]],CS[ellipsoidal,2],ANGLEUNIT[\"Degree\",0.0174532925199433]],CONVERSION[\"Lambert_Azimuthal_Equal_Area\",METHOD[\"Lambert_Azimuthal_Equal_Area\"],PARAMETER[\"False_Easting\",4321000.0,LENGTHUNIT[\"Meter\",1.0]],PARAMETER[\"False_Northing\",3210000.0,LENGTHUNIT[\"Meter\",1.0]],PARAMETER[\"Central_Meridian\",10.0,ANGLEUNIT[\"Degree\",0.0174532925199433]],PARAMETER[\"Latitude_Of_Origin\",52.0,ANGLEUNIT[\"Degree\",0.0174532925199433]]],CS[Cartesian,2],AXIS[\"Easting (X)\",east,ORDER[1]],AXIS[\"Northing (Y)\",north,ORDER[2]],LENGTHUNIT[\"Meter\",1.0]]",
   "wkt": "PROJCS[\"GRS_1980_IUGG_1980_Lambert_Azimuthal_Equal_Area\",GEOGCS[\"GCS_GRS_1980_IUGG_1980\",DATUM[\"D_unknown\",SPHEROID[\"GRS80\",6378137.0,298.257222101]],PRIMEM[\"Greenwich\",0.0],UNIT[\"Degree\",0.0174532925199433]],PROJECTION[\"Lambert_Azimuthal_Equal_Area\"],PARAMETER[\"False_Easting\",4321000.0],PARAMETER[\"False_Northing\",3210000.0],PARAMETER[\"Central_Meridian\",10.0],PARAMETER[\"Latitude_Of_Origin\",52.0],UNIT[\"Meter\",1.0]]"
  }
 },
 "initialExtent": {
  "xmin": 2599700,
  "ymin": 1399700,
  "xmax": 7300200,
  "ymax": 5450200,
  "spatialReference": {
   "wkt2": "PROJCRS[\"GRS_1980_IUGG_1980_Lambert_Azimuthal_Equal_Area\",BASEGEOGCRS[\"GCS_GRS_1980_IUGG_1980\",DATUM[\"D_unknown\",ELLIPSOID[\"GRS80\",6378137.0,298.257222101,LENGTHUNIT[\"Meter\",1.0]]],PRIMEM[\"Greenwich\",0.0,ANGLEUNIT[\"Degree\",0.0174532925199433]],CS[ellipsoidal,2],ANGLEUNIT[\"Degree\",0.0174532925199433]],CONVERSION[\"Lambert_Azimuthal_Equal_Area\",METHOD[\"Lambert_Azimuthal_Equal_Area\"],PARAMETER[\"False_Easting\",4321000.0,LENGTHUNIT[\"Meter\",1.0]],PARAMETER[\"False_Northing\",3210000.0,LENGTHUNIT[\"Meter\",1.0]],PARAMETER[\"Central_Meridian\",10.0,ANGLEUNIT[\"Degree\",0.0174532925199433]],PARAMETER[\"Latitude_Of_Origin\",52.0,ANGLEUNIT[\"Degree\",0.0174532925199433]]],CS[Cartesian,2],AXIS[\"Easting (X)\",east,ORDER[1]],AXIS[\"Northing (Y)\",north,ORDER[2]],LENGTHUNIT[\"Meter\",1.0]]",
   "wkt": "PROJCS[\"GRS_1980_IUGG_1980_Lambert_Azimuthal_Equal_Area\",GEOGCS[\"GCS_GRS_1980_IUGG_1980\",DATUM[\"D_unknown\",SPHEROID[\"GRS80\",6378137.0,298.257222101]],PRIMEM[\"Greenwich\",0.0],UNIT[\"Degree\",0.0174532925199433]],PROJECTION[\"Lambert_Azimuthal_Equal_Area\"],PARAMETER[\"False_Easting\",4321000.0],PARAMETER[\"False_Northing\",3210000.0],PARAMETER[\"Central_Meridian\",10.0],PARAMETER[\"Latitude_Of_Origin\",52.0],UNIT[\"Meter\",1.0]]"
  }
 },
 "fullExtent": {
  "xmin": 2599700,
  "ymin": 1399700,
  "xmax": 7300200,
  "ymax": 5450200,
  "spatialReference": {
   "wkt2": "PROJCRS[\"GRS_1980_IUGG_1980_Lambert_Azimuthal_Equal_Area\",BASEGEOGCRS[\"GCS_GRS_1980_IUGG_1980\",DATUM[\"D_unknown\",ELLIPSOID[\"GRS80\",6378137.0,298.257222101,LENGTHUNIT[\"Meter\",1.0]]],PRIMEM[\"Greenwich\",0.0,ANGLEUNIT[\"Degree\",0.0174532925199433]],CS[ellipsoidal,2],ANGLEUNIT[\"Degree\",0.0174532925199433]],CONVERSION[\"Lambert_Azimuthal_Equal_Area\",METHOD[\"Lambert_Azimuthal_Equal_Area\"],PARAMETER[\"False_Easting\",4321000.0,LENGTHUNIT[\"Meter\",1.0]],PARAMETER[\"False_Northing\",3210000.0,LENGTHUNIT[\"Meter\",1.0]],PARAMETER[\"Central_Meridian\",10.0,ANGLEUNIT[\"Degree\",0.0174532925199433]],PARAMETER[\"Latitude_Of_Origin\",52.0,ANGLEUNIT[\"Degree\",0.0174532925199433]]],CS[Cartesian,2],AXIS[\"Easting (X)\",east,ORDER[1]],AXIS[\"Northing (Y)\",north,ORDER[2]],LENGTHUNIT[\"Meter\",1.0]]",
   "wkt": "PROJCS[\"GRS_1980_IUGG_1980_Lambert_Azimuthal_Equal_Area\",GEOGCS[\"GCS_GRS_1980_IUGG_1980\",DATUM[\"D_unknown\",SPHEROID[\"GRS80\",6378137.0,298.257222101]],PRIMEM[\"Greenwich\",0.0],UNIT[\"Degree\",0.0174532925199433]],PROJECTION[\"Lambert_Azimuthal_Equal_Area\"],PARAMETER[\"False_Easting\",4321000.0],PARAMETER[\"False_Northing\",3210000.0],PARAMETER[\"Central_Meridian\",10.0],PARAMETER[\"Latitude_Of_Origin\",52.0],UNIT[\"Meter\",1.0]]"
  }
 },
 "sortableFields": "",
 "bandCount": 1,
 "pixelType": "S32",
 "minValues": [
  1
 ],
 "maxValues": [
  12
 ],
 "meanValues": [
  9.1907121995502
 ],
 "stdvValues": [
  2.3090521393822
 ],
 "serviceProperties": "Center<\/MosaicMethod>First<\/MosaicOperator>true<\/SortAscending><\/LockImageID><\/TileOrderField>0<\/TileOrderBase>0.000000<\/AvgImageSpacingX>0.000000<\/AvgImageSpacingY>0.0<\/ViewPointX>0.0<\/ViewPointY>0.0<\/ViewPointDefShiftX>0.0<\/ViewPointDefShiftY>None<\/CompressionMethod>75<\/CompressionQuality>0.010000<\/CompressionTolerance>Bilinear<\/SamplingMethod><\/ImageServiceProperties><\/ImageServer>",
 "allowedFields": "",
 "hasMultidimensions": false,
 "pixelSizeX": 500,
 "pixelSizeY": 500,
 "meanPixelSize": 500,
 "datasetFormat": "TIFF",
 "uncompressedSize": 304630004,
 "blockWidth": 128,
 "blockHeight": 128,
 "compressionType": "LZW",
 "bandNames": [
  "Band_1"
 ],
 "allowCopy": true,
 "allowAnalysis": true,
 "itemAccess": false,
 "inspectionCapabilities": "",
 "noDataValue": -2147483648,
 "noDataValues": [
  -2147483648
 ],
 "minPixelSize": 0,
 "maxPixelSize": 0,
 "copyrightText": "Ballabio C., Panagos P., Montanarella L. Mapping topsoil physical properties at European scale using the LUCAS database (2016) Geoderma, 261 , pp. 110-123.",
 "serviceDataType": "esriImageServiceDataTypeGeneric",
 "serviceSourceType": "esriImageServiceSourceTypeDataset",
 "objectIdField": "",
 "fields": [],
 "capabilities": "Mensuration,Image,Metadata",
 "defaultMosaicMethod": "Center",
 "allowedMosaicMethods": "",
 "sortField": "",
 "sortValue": null,
 "sortAscending": true,
 "mosaicOperator": "First",
 "defaultCompressionQuality": 75,
 "defaultResamplingMethod": "Bilinear",
 "maxImageHeight": 4100,
 "maxImageWidth": 15000,
 "allowRasterFunction": true,
 "rasterFunctionInfos": [
  {
   "name": "SoilTexture_AM",
   "description": "A raster function template.",
   "help": ""
  },
  {
   "name": "None",
   "description": "",
   "help": ""
  }
 ],
 "rasterTypeInfos": [
  {
   "name": "Raster Dataset",
   "description": "Supports all ArcGIS Raster Datasets",
   "help": ""
  }
 ],
 "mensurationCapabilities": "Basic",
 "hasHistograms": true,
 "hasColormap": false,
 "hasRasterAttributeTable": true,
 "minScale": 0,
 "maxScale": 0,
 "exportTilesAllowed": false,
 "supportsStatistics": false,
 "supportsAdvancedQueries": false,
 "editFieldsInfo": null,
 "ownershipBasedAccessControlForRasters": null,
 "allowComputeTiePoints": false,
 "useStandardizedQueries": true,
 "advancedQueryCapabilities": {
  "useStandardizedQueries": true,
  "supportsStatistics": false,
  "supportsOrderBy": false,
  "supportsDistinct": false,
  "supportsPagination": false
 },
 "spatialReference": {
  "wkt2": "PROJCRS[\"GRS_1980_IUGG_1980_Lambert_Azimuthal_Equal_Area\",BASEGEOGCRS[\"GCS_GRS_1980_IUGG_1980\",DATUM[\"D_unknown\",ELLIPSOID[\"GRS80\",6378137.0,298.257222101,LENGTHUNIT[\"Meter\",1.0]]],PRIMEM[\"Greenwich\",0.0,ANGLEUNIT[\"Degree\",0.0174532925199433]],CS[ellipsoidal,2],ANGLEUNIT[\"Degree\",0.0174532925199433]],CONVERSION[\"Lambert_Azimuthal_Equal_Area\",METHOD[\"Lambert_Azimuthal_Equal_Area\"],PARAMETER[\"False_Easting\",4321000.0,LENGTHUNIT[\"Meter\",1.0]],PARAMETER[\"False_Northing\",3210000.0,LENGTHUNIT[\"Meter\",1.0]],PARAMETER[\"Central_Meridian\",10.0,ANGLEUNIT[\"Degree\",0.0174532925199433]],PARAMETER[\"Latitude_Of_Origin\",52.0,ANGLEUNIT[\"Degree\",0.0174532925199433]]],CS[Cartesian,2],AXIS[\"Easting (X)\",east,ORDER[1]],AXIS[\"Northing (Y)\",north,ORDER[2]],LENGTHUNIT[\"Meter\",1.0]]",
  "wkt": "PROJCS[\"GRS_1980_IUGG_1980_Lambert_Azimuthal_Equal_Area\",GEOGCS[\"GCS_GRS_1980_IUGG_1980\",DATUM[\"D_unknown\",SPHEROID[\"GRS80\",6378137.0,298.257222101]],PRIMEM[\"Greenwich\",0.0],UNIT[\"Degree\",0.0174532925199433]],PROJECTION[\"Lambert_Azimuthal_Equal_Area\"],PARAMETER[\"False_Easting\",4321000.0],PARAMETER[\"False_Northing\",3210000.0],PARAMETER[\"Central_Meridian\",10.0],PARAMETER[\"Latitude_Of_Origin\",52.0],UNIT[\"Meter\",1.0]]"
 },
 "resampling": false
}
