View In:
ArcGIS JavaScript
EEA Discomap Portal
ArcGIS Earth
Service Description: Wetlands/ExtendedWetlands_Cstock
Name: Wetlands/ExtendedWetlands_Cstock
Description:
Single Fused Map Cache: false
Extent:
XMin: -6110130.133163881
YMin: 2853515.1945969034
XMax: 7848969.866836119
YMax: 1.1716715194596903E7
Spatial Reference: 102100
(3857)
Initial Extent:
XMin: -6110130.133163881
YMin: 2853515.1945969034
XMax: 7848969.866836119
YMax: 1.1716715194596903E7
Spatial Reference: 102100
(3857)
Full Extent:
XMin: -6110130.133163881
YMin: 2853515.1945969034
XMax: 7848969.866836119
YMax: 1.1716715194596903E7
Spatial Reference: 102100
(3857)
Pixel Size X: 100.0
Pixel Size Y: 100.0
Band Count: 1
Pixel Type: S8
RasterFunction Infos: {"rasterFunctionInfos": [{
"help": "",
"name": "None",
"description": ""
}]}
Mensuration Capabilities: Basic
Inspection Capabilities:
Has Histograms: true
Has Colormap: false
Has Multi Dimensions : false
Rendering Rule:
Min Scale: 0
Max Scale: 0
Copyright Text:
Service Data Type: esriImageServiceDataTypeThematic
Min Values: 0
Max Values: 25
Mean Values: 13.682327909142
Standard Deviation Values: 7.6208760208962003
Object ID Field:
Fields:
None
Default Mosaic Method: Center
Allowed Mosaic Methods:
SortField:
SortValue: N/A
Mosaic Operator: First
Default Compression Quality: 75
Default Resampling Method: Bilinear
Max Record Count: null
Max Image Height: 4100
Max Image Width: 15000
Max Download Image Count: null
Max Mosaic Image Count: null
Allow Raster Function: true
Allow Copy: true
Allow Analysis: true
Allow Compute TiePoints: false
Supports Statistics: false
Supports Advanced Queries: false
Use StandardizedQueries: false
Raster Type Infos:
Name: Raster Dataset
Description: Supports all ArcGIS Raster Datasets
Help:
Has Raster Attribute Table: true
Edit Fields Info: N/A
Ownership Based AccessControl For Rasters: N/A
Child Resources:
Info
Raster Attribute Table
Histograms
Statistics
Key Properties
Legend
Raster Function Infos
Supported Operations:
Export Image
Identify
Measure
Compute Histograms
Compute Statistics Histograms
Get Samples
Compute Class Statistics
Query Boundary
Compute Pixel Location
Compute Angles
Validate
Project