View In:
ArcGIS JavaScript
EEA Discomap Portal
ArcGIS Earth
Service Description: Felipe_test/gdp_tot_1990_2020_5arcmin_1990
Name: Felipe_test/gdp_tot_1990_2020_5arcmin_1990
Description:
Single Fused Map Cache: false
Extent:
XMin: -31.334583192999986
YMin: 27.58291675771003
XMax: 44.83208316900003
YMax: 80.91624987771004
Spatial Reference: 4326
(4326)
Initial Extent:
XMin: -31.334583192999986
YMin: 27.58291675771003
XMax: 44.83208316900003
YMax: 80.91624987771004
Spatial Reference: 4326
(4326)
Full Extent:
XMin: -31.334583192999986
YMin: 27.58291675771003
XMax: 44.83208316900003
YMax: 80.91624987771004
Spatial Reference: 4326
(4326)
Pixel Size X: 0.08333333300000002
Pixel Size Y: 0.08333333300000002
Band Count: 1
Pixel Type: F32
RasterFunction Infos: {"rasterFunctionInfos": [{
"help": "",
"name": "None",
"description": ""
}]}
Mensuration Capabilities: Basic
Inspection Capabilities:
Has Histograms: true
Has Colormap: false
Has Multi Dimensions : false
Rendering Rule:
Min Scale: 0
Max Scale: 0
Copyright Text:
Service Data Type: esriImageServiceDataTypeGeneric
Min Values: 0
Max Values: 134210011136
Mean Values: 124579585.26132499
Standard Deviation Values: 817690642.43815267
Object ID Field:
Fields:
None
Default Mosaic Method: Center
Allowed Mosaic Methods:
SortField:
SortValue: N/A
Mosaic Operator: First
Default Compression Quality: 75
Default Resampling Method: Bilinear
Max Record Count: null
Max Image Height: 4100
Max Image Width: 15000
Max Download Image Count: null
Max Mosaic Image Count: null
Allow Raster Function: true
Allow Copy: true
Allow Analysis: true
Allow Compute TiePoints: false
Supports Statistics: false
Supports Advanced Queries: false
Use StandardizedQueries: false
Raster Type Infos:
Name: Raster Dataset
Description: Supports all ArcGIS Raster Datasets
Help:
Has Raster Attribute Table: false
Edit Fields Info: N/A
Ownership Based AccessControl For Rasters: N/A
Child Resources:
Info
Histograms
Statistics
Key Properties
Legend
Raster Function Infos
Supported Operations:
Export Image
Identify
Measure
Compute Histograms
Compute Statistics Histograms
Get Samples
Compute Class Statistics
Query Boundary
Compute Pixel Location
Compute Angles
Validate
Project