View In:
ArcGIS JavaScript
EEA Discomap Portal
ArcGIS Earth
Service Description: Felipe_test/Raster_1990_2020_30arcsec
Name: Felipe_test/Raster_1990_2020_30arcsec
Description:
Single Fused Map Cache: false
Extent:
XMin: -31.27458318706539
YMin: 27.63291676580802
XMax: 44.825416511520075
YMax: 80.84124988839542
Spatial Reference: 4326
(4326)
Initial Extent:
XMin: -31.27458318706539
YMin: 27.63291676580802
XMax: 44.825416511520075
YMax: 80.84124988839542
Spatial Reference: 4326
(4326)
Full Extent:
XMin: -31.27458318706539
YMin: 27.63291676580802
XMax: 44.825416511520075
YMax: 80.84124988839542
Spatial Reference: 4326
(4326)
Pixel Size X: 0.008333333300326923
Pixel Size Y: 0.008333333300326923
Band Count: 7
Pixel Type: F32
RasterFunction Infos: {"rasterFunctionInfos": [
{
"help": "",
"name": "band7_2020",
"description": "band7 is 2020 staandar deviation"
},
{
"help": "",
"name": "None",
"description": ""
}
]}
Mensuration Capabilities: Basic
Inspection Capabilities:
Has Histograms: true
Has Colormap: false
Has Multi Dimensions : false
Rendering Rule:
Min Scale: 0
Max Scale: 0
Copyright Text:
Service Data Type: esriImageServiceDataTypeGeneric
Min Values: 0, 0, 0, 0, 0, 0, 0
Max Values: 2338381056, 2442019328, 2770981376, 3442817024, 3716062208, 5309841408, 6067060224
Mean Values: 1268449.1293854129, 1360761.8621481576, 1578154.4012796974, 1751104.4688646987, 1858474.6232085135, 2007935.3389918464, 2082931.6263751523
Standard Deviation Values: 11993567.814518666, 12709398.36747187, 14559809.511457223, 15988780.517907321, 17004044.308570851, 18673500.580888312, 19616287.804052692
Object ID Field:
Fields:
None
Default Mosaic Method: Center
Allowed Mosaic Methods:
SortField:
SortValue: N/A
Mosaic Operator: First
Default Compression Quality: 75
Default Resampling Method: Bilinear
Max Record Count: null
Max Image Height: 4100
Max Image Width: 15000
Max Download Image Count: null
Max Mosaic Image Count: null
Allow Raster Function: true
Allow Copy: true
Allow Analysis: true
Allow Compute TiePoints: false
Supports Statistics: false
Supports Advanced Queries: false
Use StandardizedQueries: false
Raster Type Infos:
Name: Raster Dataset
Description: Supports all ArcGIS Raster Datasets
Help:
Has Raster Attribute Table: false
Edit Fields Info: N/A
Ownership Based AccessControl For Rasters: N/A
Child Resources:
Info
Histograms
Statistics
Key Properties
Legend
Raster Function Infos
Supported Operations:
Export Image
Identify
Measure
Compute Histograms
Compute Statistics Histograms
Get Samples
Compute Class Statistics
Query Boundary
Compute Pixel Location
Compute Angles
Validate
Project