View In:
ArcGIS JavaScript
EEA Discomap Portal
ArcGIS Earth
Service Description: FISE_Samples/WRBLV1
Name: FISE_Samples/WRBLV1
Description:
Single Fused Map Cache: false
Extent:
XMin: -1.0463399572621278E7
YMin: -1395544.4133665822
XMax: 1.2337607752940219E7
YMax: 1.890113205733524E7
Spatial Reference: 102100
(3857)
LatestVCSWkid(0)
Initial Extent:
XMin: -1.0463399572621278E7
YMin: -1395544.4133665822
XMax: 1.2337607752940219E7
YMax: 1.890113205733524E7
Spatial Reference: 102100
(3857)
LatestVCSWkid(0)
Full Extent:
XMin: -1.0463399572621278E7
YMin: -1395544.4133665822
XMax: 1.2337607752940219E7
YMax: 1.890113205733524E7
Spatial Reference: 102100
(3857)
LatestVCSWkid(0)
Pixel Size X: 1479.4320870465544
Pixel Size Y: 1925.8635990797818
Band Count: 1
Pixel Type: U8
RasterFunction Infos: {"rasterFunctionInfos": [
{
"name": "SoilTypes_WRBLV1_Descr",
"description": "A raster function template.",
"help": ""
},
{
"name": "None",
"description": "Make a Raster or Raster Dataset into a Function Raster Dataset.",
"help": ""
}
]}
Mensuration Capabilities: Basic
Inspection Capabilities:
Has Histograms: true
Has Colormap: false
Has Multi Dimensions : false
Rendering Rule:
Min Scale: 0
Max Scale: 0
Copyright Text:
Service Data Type: esriImageServiceDataTypeThematic
Min Values: 1
Max Values: 30
Mean Values: 16.29312301006345
Standard Deviation Values: 6.633424516371116
Object ID Field:
Fields:
None
Default Mosaic Method: Center
Allowed Mosaic Methods:
SortField:
SortValue: null
Mosaic Operator: First
Default Compression Quality: 75
Default Resampling Method: Bilinear
Max Record Count: null
Max Image Height: 4100
Max Image Width: 15000
Max Download Image Count: null
Max Mosaic Image Count: null
Allow Raster Function: true
Allow Copy: true
Allow Analysis: true
Allow Compute TiePoints: false
Supports Statistics: false
Supports Advanced Queries: false
Use StandardizedQueries: true
Raster Type Infos:
Name: Raster Dataset
Description: Supports all ArcGIS Raster Datasets
Help:
Has Raster Attribute Table: true
Edit Fields Info: null
Ownership Based AccessControl For Rasters: null
Child Resources:
Info
Raster Attribute Table
Histograms
Statistics
Key Properties
Legend
Raster Function Infos
Supported Operations:
Export Image
Identify
Measure
Compute Histograms
Compute Statistics Histograms
Get Samples
Compute Class Statistics
Query Boundary
Compute Pixel Location
Compute Angles
Validate
Project