View In:
ArcGIS JavaScript
EEA Discomap Portal
ArcGIS Earth
Service Description: 3 year Annual average concentration maps
Name: EnvHealthAtlas/N02_avg3
Description: 3 year Annual average concentration maps
Single Fused Map Cache: false
Extent:
XMin: 2635500.0
YMin: 1385500.0
XMax: 6562500.0
YMax: 5415500.0
Spatial Reference: 3035
(3035)
Initial Extent:
XMin: 2635500.0
YMin: 1385500.0
XMax: 6562500.0
YMax: 5415500.0
Spatial Reference: 3035
(3035)
Full Extent:
XMin: 2635500.0
YMin: 1385500.0
XMax: 6562500.0
YMax: 5415500.0
Spatial Reference: 3035
(3035)
Pixel Size X: 1000.0
Pixel Size Y: 1000.0
Band Count: 1
Pixel Type: F64
RasterFunction Infos: {"rasterFunctionInfos": [{
"help": "",
"name": "None",
"description": ""
}]}
Mensuration Capabilities: Basic
Inspection Capabilities:
Has Histograms: true
Has Colormap: false
Has Multi Dimensions : false
Rendering Rule:
Min Scale: 0
Max Scale: 0
Copyright Text:
Service Data Type: esriImageServiceDataTypeGeneric
Min Values: 0
Max Values: 45.100000000000001
Mean Values: 4.8904515811441138
Standard Deviation Values: 3.7893358344214754
Object ID Field:
Fields:
None
Default Mosaic Method: Center
Allowed Mosaic Methods:
SortField:
SortValue: N/A
Mosaic Operator: First
Default Compression Quality: 75
Default Resampling Method: Nearest
Max Record Count: null
Max Image Height: 4100
Max Image Width: 15000
Max Download Image Count: null
Max Mosaic Image Count: null
Allow Raster Function: true
Allow Copy: true
Allow Analysis: true
Allow Compute TiePoints: false
Supports Statistics: false
Supports Advanced Queries: false
Use StandardizedQueries: false
Raster Type Infos:
Name: Raster Dataset
Description: Supports all ArcGIS Raster Datasets
Help:
Has Raster Attribute Table: false
Edit Fields Info: N/A
Ownership Based AccessControl For Rasters: N/A
Child Resources:
Info
Histograms
Statistics
Key Properties
Legend
Raster Function Infos
Supported Operations:
Export Image
Identify
Measure
Compute Histograms
Compute Statistics Histograms
Get Samples
Compute Class Statistics
Query Boundary
Compute Pixel Location
Compute Angles
Validate
Project