View In:
ArcGIS JavaScript
EEA Discomap Portal
ArcGIS Earth
Service Description: CLMS_Storymap/SST_Trend_EPSG3857_tif
Name: CLMS_Storymap/SST_Trend_EPSG3857_tif
Description:
Single Fused Map Cache: false
Extent:
XMin: -622107.5967330995
YMin: 3514613.3683488043
XMax: 4047628.653132125
YMax: 5788378.258536242
Spatial Reference: 102100
(3857)
LatestVCSWkid(0)
Initial Extent:
XMin: -622107.5967330995
YMin: 3514613.3683488043
XMax: 4047628.653132125
YMax: 5788378.258536242
Spatial Reference: 102100
(3857)
LatestVCSWkid(0)
Full Extent:
XMin: -622107.5967330995
YMin: 3514613.3683488043
XMax: 4047628.653132125
YMax: 5788378.258536242
Spatial Reference: 102100
(3857)
LatestVCSWkid(0)
Pixel Size X: 6301.938258927428
Pixel Size Y: 6316.013583853994
Band Count: 1
Pixel Type: F32
RasterFunction Infos: {"rasterFunctionInfos": [{
"name": "None",
"description": "",
"help": ""
}]}
Mensuration Capabilities: Basic
Inspection Capabilities:
Has Histograms: true
Has Colormap: false
Has Multi Dimensions : false
Rendering Rule:
Min Scale: 0
Max Scale: 0
Copyright Text:
Service Data Type: esriImageServiceDataTypeGeneric
Min Values: 0.0023226924240589
Max Values: 0.051884740591049
Mean Values: 0.031049052774852
Standard Deviation Values: 0.0064311774530411
Object ID Field:
Fields:
None
Default Mosaic Method: Center
Allowed Mosaic Methods:
SortField:
SortValue: null
Mosaic Operator: First
Default Compression Quality: 75
Default Resampling Method: Bilinear
Max Record Count: null
Max Image Height: 4100
Max Image Width: 15000
Max Download Image Count: null
Max Mosaic Image Count: null
Allow Raster Function: true
Allow Copy: true
Allow Analysis: true
Allow Compute TiePoints: false
Supports Statistics: false
Supports Advanced Queries: false
Use StandardizedQueries: true
Raster Type Infos:
Name: Raster Dataset
Description: Supports all ArcGIS Raster Datasets
Help:
Has Raster Attribute Table: false
Edit Fields Info: null
Ownership Based AccessControl For Rasters: null
Child Resources:
Info
Histograms
Statistics
Key Properties
Legend
Raster Function Infos
Supported Operations:
Export Image
Identify
Measure
Compute Histograms
Compute Statistics Histograms
Get Samples
Compute Class Statistics
Query Boundary
Compute Pixel Location
Compute Angles
Validate
Project