{
 "currentVersion": 11.5,
 "serviceDescription": "The JRC created a quantitative map of estimated soil pH values across Europe from a compilation of 12,333 soil pH measurements from 11 different sources, and using a geo-statistical framework based on Regression-Kriging. Fifty-four (54) auxiliary variables in the form of raster maps at 1km resolution were used to explain the differences in the distribution of soil pHCaCl2 and the kriged map of the residuals from the regression model was added. The goodness of fit of the regression model was satisfactory (R2adj = 0.43) and its residuals follow a Gaussian distribution. The lowest values correspond to the soils developed on acid rock (granites, quartzite\u2019s, sandstones, etc), while the higher values are related to the presence of calcareous sediments and basic rocks. The validation of the model shows that the model is quite accurate (R2adj = 0.56). This shows the validity of Regression-Kriging in the estimation of the distribution of soil properties when a large and adequately documented number of soil measurements are available.",
 "name": "FISE_Samples/Soil_pH_Europe",
 "description": "The JRC created a quantitative map of estimated soil pH values across Europe from a compilation of 12,333 soil pH measurements from 11 different sources, and using a geo-statistical framework based on Regression-Kriging. Fifty-four (54) auxiliary variables in the form of raster maps at 1km resolution were used to explain the differences in the distribution of soil pHCaCl2 and the kriged map of the residuals from the regression model was added. The goodness of fit of the regression model was satisfactory (R2adj = 0.43) and its residuals follow a Gaussian distribution. The lowest values correspond to the soils developed on acid rock (granites, quartzite\u2019s, sandstones, etc), while the higher values are related to the presence of calcareous sediments and basic rocks. The validation of the model shows that the model is quite accurate (R2adj = 0.56). This shows the validity of Regression-Kriging in the estimation of the distribution of soil properties when a large and adequately documented number of soil measurements are available.",
 "extent": {
  "xmin": -3500266.8154927087,
  "ymin": 4035099.674411986,
  "xmax": 5624733.184507292,
  "ymax": 1.1730099674411986E7,
  "spatialReference": {
   "wkid": 102100,
   "latestWkid": 3857
  }
 },
 "initialExtent": {
  "xmin": -3500266.8154927087,
  "ymin": 4035099.674411986,
  "xmax": 5624733.184507292,
  "ymax": 1.1730099674411986E7,
  "spatialReference": {
   "wkid": 102100,
   "latestWkid": 3857
  }
 },
 "fullExtent": {
  "xmin": -3500266.8154927087,
  "ymin": 4035099.674411986,
  "xmax": 5624733.184507292,
  "ymax": 1.1730099674411986E7,
  "spatialReference": {
   "wkid": 102100,
   "latestWkid": 3857
  }
 },
 "sortableFields": "",
 "bandCount": 1,
 "pixelType": "F32",
 "minValues": [
  0.95584726333618
 ],
 "maxValues": [
  8.8063116073608
 ],
 "meanValues": [
  5.1115206913254
 ],
 "stdvValues": [
  0.83848803473974
 ],
 "serviceProperties": "Center<\/MosaicMethod>First<\/MosaicOperator>true<\/SortAscending><\/LockImageID><\/TileOrderField>0<\/TileOrderBase>0.000000<\/AvgImageSpacingX>0.000000<\/AvgImageSpacingY>0.0<\/ViewPointX>0.0<\/ViewPointY>0.0<\/ViewPointDefShiftX>0.0<\/ViewPointDefShiftY>LZ77<\/CompressionMethod>75<\/CompressionQuality>0.010000<\/CompressionTolerance>Nearest<\/SamplingMethod><\/ImageServiceProperties><\/ImageServer>",
 "allowedFields": "",
 "hasMultidimensions": false,
 "pixelSizeX": 5000,
 "pixelSizeY": 5000,
 "meanPixelSize": 5000,
 "datasetFormat": "TIFF",
 "uncompressedSize": 11234700,
 "blockWidth": 128,
 "blockHeight": 128,
 "compressionType": "LZW",
 "bandNames": [
  "Band_1"
 ],
 "allowCopy": true,
 "allowAnalysis": true,
 "itemAccess": false,
 "inspectionCapabilities": "",
 "noDataValue": -3.4028234663852886E38,
 "noDataValues": [
  -3.4028234663852886E38
 ],
 "minPixelSize": 0,
 "maxPixelSize": 0,
 "copyrightText": "\"CONTINENTAL-SCALE DIGITAL SOIL MAPPING USING EUROPEAN SOIL PROFILE DATA: SOIL PH\", Hannes Isaak Reuter, Luis Rodriguez Lado, Tomislav Hengl & Luca Montanarella, Hamburger Beiträge zur Physischen Geographie und Landschaftsökologie \u2013 92 Heft 19/2008, pp. 91-102. (in Böhner, J., Blaschke, T., Montanarella, L. [Eds.] (2008): SAGA \u2013 Seconds Out. Hamburger Beiträge zur Physischen Geographie und Landschaftsökologie, Vol.19, 113pp.)",
 "serviceDataType": "esriImageServiceDataTypeGeneric",
 "serviceSourceType": "esriImageServiceSourceTypeDataset",
 "objectIdField": "",
 "fields": [],
 "capabilities": "Mensuration,Image,Metadata",
 "defaultMosaicMethod": "Center",
 "allowedMosaicMethods": "",
 "sortField": "",
 "sortValue": null,
 "sortAscending": true,
 "mosaicOperator": "First",
 "defaultCompressionQuality": 75,
 "defaultResamplingMethod": "Nearest",
 "maxImageHeight": 4100,
 "maxImageWidth": 15000,
 "allowRasterFunction": true,
 "rasterFunctionInfos": [
  {
   "name": "None",
   "description": "Make a Raster or Raster Dataset into a Function Raster Dataset.",
   "help": ""
  },
  {
   "name": "phSoilEurope",
   "description": "A raster function template.",
   "help": ""
  }
 ],
 "rasterTypeInfos": [
  {
   "name": "Raster Dataset",
   "description": "Supports all ArcGIS Raster Datasets",
   "help": ""
  }
 ],
 "mensurationCapabilities": "Basic",
 "hasHistograms": true,
 "hasColormap": false,
 "hasRasterAttributeTable": false,
 "minScale": 0,
 "maxScale": 0,
 "exportTilesAllowed": false,
 "supportsStatistics": false,
 "supportsAdvancedQueries": false,
 "editFieldsInfo": null,
 "ownershipBasedAccessControlForRasters": null,
 "allowComputeTiePoints": false,
 "useStandardizedQueries": true,
 "advancedQueryCapabilities": {
  "useStandardizedQueries": true,
  "supportsStatistics": false,
  "supportsOrderBy": false,
  "supportsDistinct": false,
  "supportsPagination": false
 },
 "spatialReference": {
  "wkid": 102100,
  "latestWkid": 3857
 },
 "resampling": false
}
