{
 "currentVersion": 11.5,
 "serviceDescription": "Bulk density derived from soil texture datasets (obtained from the packing density and themapped clay content following the equation of Jones et al. 2003). Important note: Please use the Bulk density and the packing density data as well as they have been produced with 6,000 measured LUCAS points",
 "name": "FISE_Samples/BulkDensity",
 "description": "Bulk density derived from soil texture datasets (obtained from the packing density and themapped clay content following the equation of Jones et al. 2003). Important note: Please use the Bulk density and the packing density data as well as they have been produced with 6,000 measured LUCAS points",
 "extent": {
  "xmin": -3403041.7091063163,
  "ymin": 3751539.820156498,
  "xmax": 6914458.290893683,
  "ymax": 1.1373039820156498E7,
  "spatialReference": {
   "wkid": 102100,
   "latestWkid": 3857
  }
 },
 "initialExtent": {
  "xmin": -3403041.7091063163,
  "ymin": 3751539.820156498,
  "xmax": 6914458.290893683,
  "ymax": 1.1373039820156498E7,
  "spatialReference": {
   "wkid": 102100,
   "latestWkid": 3857
  }
 },
 "fullExtent": {
  "xmin": -3403041.7091063163,
  "ymin": 3751539.820156498,
  "xmax": 6914458.290893683,
  "ymax": 1.1373039820156498E7,
  "spatialReference": {
   "wkid": 102100,
   "latestWkid": 3857
  }
 },
 "sortableFields": "",
 "bandCount": 1,
 "pixelType": "F32",
 "minValues": [
  0.58596485853195
 ],
 "maxValues": [
  1.573112487793
 ],
 "meanValues": [
  1.2185722948851
 ],
 "stdvValues": [
  0.14547084560359
 ],
 "serviceProperties": "Center<\/MosaicMethod>First<\/MosaicOperator>true<\/SortAscending><\/LockImageID><\/TileOrderField>0<\/TileOrderBase>0.000000<\/AvgImageSpacingX>0.000000<\/AvgImageSpacingY>0.0<\/ViewPointX>0.0<\/ViewPointY>0.0<\/ViewPointDefShiftX>0.0<\/ViewPointDefShiftY>None<\/CompressionMethod>75<\/CompressionQuality>0.010000<\/CompressionTolerance>Bilinear<\/SamplingMethod><\/ImageServiceProperties><\/ImageServer>",
 "allowedFields": "",
 "hasMultidimensions": false,
 "pixelSizeX": 500,
 "pixelSizeY": 500,
 "meanPixelSize": 500,
 "datasetFormat": "TIFF",
 "uncompressedSize": 1258157220,
 "blockWidth": 512,
 "blockHeight": 512,
 "compressionType": "LZW",
 "bandNames": [
  "Band_1"
 ],
 "allowCopy": false,
 "allowAnalysis": false,
 "itemAccess": false,
 "inspectionCapabilities": "",
 "noDataValue": 3.3999999521443642E38,
 "noDataValues": [
  3.3999999521443642E38
 ],
 "minPixelSize": 0,
 "maxPixelSize": 0,
 "copyrightText": "Ballabio C., Panagos P., Montanarella L. Mapping topsoil physical properties at European scale using the LUCAS database (2016) Geoderma, 261 , pp. 110-123.",
 "serviceDataType": "esriImageServiceDataTypeGeneric",
 "serviceSourceType": "esriImageServiceSourceTypeDataset",
 "objectIdField": "",
 "fields": [],
 "capabilities": "Image,Metadata",
 "defaultMosaicMethod": "Center",
 "allowedMosaicMethods": "",
 "sortField": "",
 "sortValue": null,
 "sortAscending": true,
 "mosaicOperator": "First",
 "defaultCompressionQuality": 75,
 "defaultResamplingMethod": "Bilinear",
 "maxImageHeight": 4096,
 "maxImageWidth": 2048,
 "allowRasterFunction": true,
 "rasterFunctionInfos": [
  {
   "name": "BulkDensity_AM",
   "description": "A raster function template.",
   "help": ""
  },
  {
   "name": "None",
   "description": "",
   "help": ""
  }
 ],
 "rasterTypeInfos": [
  {
   "name": "Raster Dataset",
   "description": "Supports all ArcGIS Raster Datasets",
   "help": ""
  }
 ],
 "mensurationCapabilities": "Basic",
 "hasHistograms": true,
 "hasColormap": false,
 "hasRasterAttributeTable": false,
 "minScale": 0,
 "maxScale": 0,
 "exportTilesAllowed": false,
 "supportsStatistics": false,
 "supportsAdvancedQueries": false,
 "editFieldsInfo": null,
 "ownershipBasedAccessControlForRasters": null,
 "allowComputeTiePoints": false,
 "useStandardizedQueries": true,
 "advancedQueryCapabilities": {
  "useStandardizedQueries": true,
  "supportsStatistics": false,
  "supportsOrderBy": false,
  "supportsDistinct": false,
  "supportsPagination": false
 },
 "spatialReference": {
  "wkid": 102100,
  "latestWkid": 3857
 },
 "resampling": false
}
