{
 "currentVersion": 11.5,
 "serviceDescription": "CopernicusTest/dsos_2022_s1MaltaCacheNNResampl",
 "name": "CopernicusTest/dsos_2022_s1MaltaCacheNNResampl",
 "description": "",
 "extent": {
  "xmin": 4699938.374807347,
  "ymin": 1448582.553193681,
  "xmax": 4717438.374807347,
  "ymax": 1460582.553193681,
  "spatialReference": {
   "wkid": 3035,
   "latestWkid": 3035
  }
 },
 "initialExtent": {
  "xmin": 4699938.374807347,
  "ymin": 1448582.553193681,
  "xmax": 4717438.374807347,
  "ymax": 1460582.553193681,
  "spatialReference": {
   "wkid": 3035,
   "latestWkid": 3035
  }
 },
 "fullExtent": {
  "xmin": 4699938.374807347,
  "ymin": 1448582.553193681,
  "xmax": 4717438.374807347,
  "ymax": 1460582.553193681,
  "spatialReference": {
   "wkid": 3035,
   "latestWkid": 3035
  }
 },
 "sortableFields": "",
 "bandCount": 1,
 "pixelType": "S16",
 "minValues": [
  22094
 ],
 "maxValues": [
  23051
 ],
 "meanValues": [
  22145.477966101695
 ],
 "stdvValues": [
  57.64557457396539
 ],
 "serviceProperties": "Center<\/MosaicMethod>First<\/MosaicOperator>true<\/SortAscending><\/LockImageID><\/TileOrderField>0<\/TileOrderBase>0.000000<\/AvgImageSpacingX>0.000000<\/AvgImageSpacingY>0.0<\/ViewPointX>0.0<\/ViewPointY>0.0<\/ViewPointDefShiftX>0.0<\/ViewPointDefShiftY>None<\/CompressionMethod>75<\/CompressionQuality>0.010000<\/CompressionTolerance>Bilinear<\/SamplingMethod><\/ImageServiceProperties><\/ImageServer>",
 "allowedFields": "",
 "hasMultidimensions": false,
 "pixelSizeX": 500,
 "pixelSizeY": 500,
 "meanPixelSize": 500,
 "datasetFormat": "GRID",
 "uncompressedSize": 1680,
 "blockWidth": 256,
 "blockHeight": 16,
 "compressionType": "RLE",
 "bandNames": [
  "dsos_2022_s1"
 ],
 "allowCopy": true,
 "allowAnalysis": true,
 "itemAccess": false,
 "inspectionCapabilities": "",
 "noDataValue": 0,
 "noDataValues": [
  0
 ],
 "minPixelSize": 0.37990224088189983,
 "maxPixelSize": 778.0397893261309,
 "copyrightText": "",
 "serviceDataType": "esriImageServiceDataTypeGeneric",
 "serviceSourceType": "esriImageServiceSourceTypeDataset",
 "objectIdField": "",
 "fields": [],
 "capabilities": "Image,Metadata,Mensuration",
 "defaultMosaicMethod": "Center",
 "allowedMosaicMethods": "",
 "sortField": "",
 "sortValue": null,
 "sortAscending": true,
 "mosaicOperator": "First",
 "defaultCompressionQuality": 75,
 "defaultResamplingMethod": "Bilinear",
 "maxImageHeight": 4100,
 "maxImageWidth": 15000,
 "singleFusedMapCache": true,
 "tileInfo": {
  "rows": 256,
  "cols": 256,
  "dpi": 96,
  "format": "PNG",
  "compressionQuality": 0,
  "origin": {
   "x": -8426403.908319328,
   "y": 1.595740390831941E7
  },
  "spatialReference": {
   "wkid": 3035,
   "latestWkid": 3035
  },
  "lods": [
   {
    "level": 0,
    "resolution": 99589.09303374475,
    "scale": 3.7639972170234233E8
   },
   {
    "level": 1,
    "resolution": 49794.546516872375,
    "scale": 1.8819986085117117E8
   },
   {
    "level": 2,
    "resolution": 24897.273258436187,
    "scale": 9.409993042558558E7
   },
   {
    "level": 3,
    "resolution": 12448.636629218094,
    "scale": 4.704996521279279E7
   },
   {
    "level": 4,
    "resolution": 6224.318314609047,
    "scale": 2.3524982606396396E7
   },
   {
    "level": 5,
    "resolution": 3112.1591573045234,
    "scale": 1.1762491303198198E7
   },
   {
    "level": 6,
    "resolution": 1556.0795786522617,
    "scale": 5881245.651599099
   },
   {
    "level": 7,
    "resolution": 778.0397893261309,
    "scale": 2940622.8257995495
   },
   {
    "level": 8,
    "resolution": 389.01989466306543,
    "scale": 1470311.4128997747
   },
   {
    "level": 9,
    "resolution": 194.50994733153271,
    "scale": 735155.7064498874
   },
   {
    "level": 10,
    "resolution": 97.25497366576636,
    "scale": 367577.8532249437
   },
   {
    "level": 11,
    "resolution": 48.62748683288318,
    "scale": 183788.92661247184
   },
   {
    "level": 12,
    "resolution": 24.31374341644159,
    "scale": 91894.46330623592
   },
   {
    "level": 13,
    "resolution": 12.156871708220795,
    "scale": 45947.23165311796
   },
   {
    "level": 14,
    "resolution": 6.078435854110397,
    "scale": 22973.61582655898
   },
   {
    "level": 15,
    "resolution": 3.0392179270551987,
    "scale": 11486.80791327949
   },
   {
    "level": 16,
    "resolution": 1.5196089635275993,
    "scale": 5743.403956639745
   },
   {
    "level": 17,
    "resolution": 0.7598044817637997,
    "scale": 2871.7019783198725
   },
   {
    "level": 18,
    "resolution": 0.37990224088189983,
    "scale": 1435.8509891599363
   }
  ]
 },
 "storageInfo": {
  "storageFormat": "esriMapCacheStorageModeCompactV2",
  "packetSize": 128
 },
 "cacheType": "Map",
 "allowRasterFunction": true,
 "rasterFunctionInfos": [
  {
   "name": "None",
   "description": "",
   "help": ""
  }
 ],
 "rasterTypeInfos": [
  {
   "name": "Raster Dataset",
   "description": "Supports all ArcGIS Raster Datasets",
   "help": ""
  }
 ],
 "mensurationCapabilities": "Basic",
 "hasHistograms": false,
 "hasColormap": false,
 "hasRasterAttributeTable": true,
 "minScale": 2940622.8257995495,
 "maxScale": 1435.8509891599363,
 "minLOD": 7,
 "maxLOD": 18,
 "exportTilesAllowed": false,
 "supportsStatistics": false,
 "supportsAdvancedQueries": false,
 "editFieldsInfo": null,
 "ownershipBasedAccessControlForRasters": null,
 "allowComputeTiePoints": false,
 "useStandardizedQueries": true,
 "advancedQueryCapabilities": {
  "useStandardizedQueries": true,
  "supportsStatistics": false,
  "supportsOrderBy": false,
  "supportsDistinct": false,
  "supportsPagination": false
 },
 "spatialReference": {
  "wkid": 3035,
  "latestWkid": 3035
 }
}
